BEGIN:VCALENDAR
VERSION:2.0
PRODID:-//Pauline.org - ECPv6.15.20//NONSGML v1.0//EN
CALSCALE:GREGORIAN
METHOD:PUBLISH
X-ORIGINAL-URL:https://pauline.org
X-WR-CALDESC:Events for Pauline.org
REFRESH-INTERVAL;VALUE=DURATION:PT1H
X-Robots-Tag:noindex
X-PUBLISHED-TTL:PT1H
BEGIN:VTIMEZONE
TZID:America/Chicago
BEGIN:DAYLIGHT
TZOFFSETFROM:-0600
TZOFFSETTO:-0500
TZNAME:CDT
DTSTART:20250309T080000
END:DAYLIGHT
BEGIN:STANDARD
TZOFFSETFROM:-0500
TZOFFSETTO:-0600
TZNAME:CST
DTSTART:20251102T070000
END:STANDARD
BEGIN:DAYLIGHT
TZOFFSETFROM:-0600
TZOFFSETTO:-0500
TZNAME:CDT
DTSTART:20260308T080000
END:DAYLIGHT
BEGIN:STANDARD
TZOFFSETFROM:-0500
TZOFFSETTO:-0600
TZNAME:CST
DTSTART:20261101T070000
END:STANDARD
BEGIN:DAYLIGHT
TZOFFSETFROM:-0600
TZOFFSETTO:-0500
TZNAME:CDT
DTSTART:20270314T080000
END:DAYLIGHT
BEGIN:STANDARD
TZOFFSETFROM:-0500
TZOFFSETTO:-0600
TZNAME:CST
DTSTART:20271107T070000
END:STANDARD
END:VTIMEZONE
BEGIN:VEVENT
DTSTART;TZID=America/Chicago:20260423T100000
DTEND;TZID=America/Chicago:20260423T170000
DTSTAMP:20260422T041810
CREATED:20260421T145444Z
LAST-MODIFIED:20260421T150423Z
UID:10000157-1776938400-1776963600@pauline.org
SUMMARY:Eucharistic Adoration at Pauline Books & Media\, New Orleans
DESCRIPTION:Join us for Eucharistic Adoration on Thursdays from 10am–5pm in our chapel at Pauline Books & Media in Metairie (New Orleans)\, LA.
URL:https://pauline.org/event/eucharistic-adoration-at-pbm-nola-2-2/2026-04-23/
LOCATION:Pauline Center (New Orleans)\, 4403 Veterans Memorial Boulevard\, Metairie\, LA\, 70006\, United States
CATEGORIES:Español,New Orleans,Prayer
ATTACH;FMTTYPE=image/jpeg:https://pauline.org/wp-content/uploads/2024/03/Search-Results-scaled.jpg
END:VEVENT
BEGIN:VEVENT
DTSTART;TZID=America/Chicago:20260424T120000
DTEND;TZID=America/Chicago:20260424T123000
DTSTAMP:20260422T041810
CREATED:20250327T023719Z
LAST-MODIFIED:20250327T023719Z
UID:10001994-1777032000-1777033800@pauline.org
SUMMARY:Mass at Pauline Books & Media\, New Orleans
DESCRIPTION:Join us on Fridays at noon (Jan 15–May 31 and Sept 15–Dec 15 only) for Mass at Pauline Books & Media\, Metairie (New Orleans)\, LA.
URL:https://pauline.org/event/mass-at-pauline-books-media-new-orleans/2026-04-24/
LOCATION:Pauline Center (New Orleans)\, 4403 Veterans Memorial Boulevard\, Metairie\, LA\, 70006\, United States
CATEGORIES:New Orleans
ATTACH;FMTTYPE=image/jpeg:https://pauline.org/wp-content/uploads/2024/06/unnamed-3.jpg
END:VEVENT
BEGIN:VEVENT
DTSTART;TZID=America/Chicago:20260430T100000
DTEND;TZID=America/Chicago:20260430T170000
DTSTAMP:20260422T041810
CREATED:20260421T145444Z
LAST-MODIFIED:20260421T150423Z
UID:10000158-1777543200-1777568400@pauline.org
SUMMARY:Eucharistic Adoration at Pauline Books & Media\, New Orleans
DESCRIPTION:Join us for Eucharistic Adoration on Thursdays from 10am–5pm in our chapel at Pauline Books & Media in Metairie (New Orleans)\, LA.
URL:https://pauline.org/event/eucharistic-adoration-at-pbm-nola-2-2/2026-04-30/
LOCATION:Pauline Center (New Orleans)\, 4403 Veterans Memorial Boulevard\, Metairie\, LA\, 70006\, United States
CATEGORIES:Español,New Orleans,Prayer
ATTACH;FMTTYPE=image/jpeg:https://pauline.org/wp-content/uploads/2024/03/Search-Results-scaled.jpg
END:VEVENT
BEGIN:VEVENT
DTSTART;TZID=America/Chicago:20260501T120000
DTEND;TZID=America/Chicago:20260501T123000
DTSTAMP:20260422T041810
CREATED:20250327T023719Z
LAST-MODIFIED:20250327T023719Z
UID:10001995-1777636800-1777638600@pauline.org
SUMMARY:Mass at Pauline Books & Media\, New Orleans
DESCRIPTION:Join us on Fridays at noon (Jan 15–May 31 and Sept 15–Dec 15 only) for Mass at Pauline Books & Media\, Metairie (New Orleans)\, LA.
URL:https://pauline.org/event/mass-at-pauline-books-media-new-orleans/2026-05-01/
LOCATION:Pauline Center (New Orleans)\, 4403 Veterans Memorial Boulevard\, Metairie\, LA\, 70006\, United States
CATEGORIES:New Orleans
ATTACH;FMTTYPE=image/jpeg:https://pauline.org/wp-content/uploads/2024/06/unnamed-3.jpg
END:VEVENT
BEGIN:VEVENT
DTSTART;TZID=America/Chicago:20260507T100000
DTEND;TZID=America/Chicago:20260507T170000
DTSTAMP:20260422T041810
CREATED:20260421T145444Z
LAST-MODIFIED:20260421T150423Z
UID:10000159-1778148000-1778173200@pauline.org
SUMMARY:Eucharistic Adoration at Pauline Books & Media\, New Orleans
DESCRIPTION:Join us for Eucharistic Adoration on Thursdays from 10am–5pm in our chapel at Pauline Books & Media in Metairie (New Orleans)\, LA.
URL:https://pauline.org/event/eucharistic-adoration-at-pbm-nola-2-2/2026-05-07/
LOCATION:Pauline Center (New Orleans)\, 4403 Veterans Memorial Boulevard\, Metairie\, LA\, 70006\, United States
CATEGORIES:Español,New Orleans,Prayer
ATTACH;FMTTYPE=image/jpeg:https://pauline.org/wp-content/uploads/2024/03/Search-Results-scaled.jpg
END:VEVENT
BEGIN:VEVENT
DTSTART;TZID=America/Chicago:20260508T120000
DTEND;TZID=America/Chicago:20260508T123000
DTSTAMP:20260422T041810
CREATED:20250327T023719Z
LAST-MODIFIED:20250327T023719Z
UID:10001996-1778241600-1778243400@pauline.org
SUMMARY:Mass at Pauline Books & Media\, New Orleans
DESCRIPTION:Join us on Fridays at noon (Jan 15–May 31 and Sept 15–Dec 15 only) for Mass at Pauline Books & Media\, Metairie (New Orleans)\, LA.
URL:https://pauline.org/event/mass-at-pauline-books-media-new-orleans/2026-05-08/
LOCATION:Pauline Center (New Orleans)\, 4403 Veterans Memorial Boulevard\, Metairie\, LA\, 70006\, United States
CATEGORIES:New Orleans
ATTACH;FMTTYPE=image/jpeg:https://pauline.org/wp-content/uploads/2024/06/unnamed-3.jpg
END:VEVENT
BEGIN:VEVENT
DTSTART;TZID=America/Chicago:20260514T100000
DTEND;TZID=America/Chicago:20260514T170000
DTSTAMP:20260422T041810
CREATED:20260421T145444Z
LAST-MODIFIED:20260421T150423Z
UID:10000160-1778752800-1778778000@pauline.org
SUMMARY:Eucharistic Adoration at Pauline Books & Media\, New Orleans
DESCRIPTION:Join us for Eucharistic Adoration on Thursdays from 10am–5pm in our chapel at Pauline Books & Media in Metairie (New Orleans)\, LA.
URL:https://pauline.org/event/eucharistic-adoration-at-pbm-nola-2-2/2026-05-14/
LOCATION:Pauline Center (New Orleans)\, 4403 Veterans Memorial Boulevard\, Metairie\, LA\, 70006\, United States
CATEGORIES:Español,New Orleans,Prayer
ATTACH;FMTTYPE=image/jpeg:https://pauline.org/wp-content/uploads/2024/03/Search-Results-scaled.jpg
END:VEVENT
BEGIN:VEVENT
DTSTART;TZID=America/Chicago:20260515T120000
DTEND;TZID=America/Chicago:20260515T123000
DTSTAMP:20260422T041810
CREATED:20250327T023719Z
LAST-MODIFIED:20250327T023719Z
UID:10001997-1778846400-1778848200@pauline.org
SUMMARY:Mass at Pauline Books & Media\, New Orleans
DESCRIPTION:Join us on Fridays at noon (Jan 15–May 31 and Sept 15–Dec 15 only) for Mass at Pauline Books & Media\, Metairie (New Orleans)\, LA.
URL:https://pauline.org/event/mass-at-pauline-books-media-new-orleans/2026-05-15/
LOCATION:Pauline Center (New Orleans)\, 4403 Veterans Memorial Boulevard\, Metairie\, LA\, 70006\, United States
CATEGORIES:New Orleans
ATTACH;FMTTYPE=image/jpeg:https://pauline.org/wp-content/uploads/2024/06/unnamed-3.jpg
END:VEVENT
BEGIN:VEVENT
DTSTART;TZID=America/Chicago:20260521T100000
DTEND;TZID=America/Chicago:20260521T170000
DTSTAMP:20260422T041810
CREATED:20260421T145444Z
LAST-MODIFIED:20260421T150423Z
UID:10000161-1779357600-1779382800@pauline.org
SUMMARY:Eucharistic Adoration at Pauline Books & Media\, New Orleans
DESCRIPTION:Join us for Eucharistic Adoration on Thursdays from 10am–5pm in our chapel at Pauline Books & Media in Metairie (New Orleans)\, LA.
URL:https://pauline.org/event/eucharistic-adoration-at-pbm-nola-2-2/2026-05-21/
LOCATION:Pauline Center (New Orleans)\, 4403 Veterans Memorial Boulevard\, Metairie\, LA\, 70006\, United States
CATEGORIES:Español,New Orleans,Prayer
ATTACH;FMTTYPE=image/jpeg:https://pauline.org/wp-content/uploads/2024/03/Search-Results-scaled.jpg
END:VEVENT
BEGIN:VEVENT
DTSTART;TZID=America/Chicago:20260522T120000
DTEND;TZID=America/Chicago:20260522T123000
DTSTAMP:20260422T041810
CREATED:20250327T023719Z
LAST-MODIFIED:20250327T023719Z
UID:10001998-1779451200-1779453000@pauline.org
SUMMARY:Mass at Pauline Books & Media\, New Orleans
DESCRIPTION:Join us on Fridays at noon (Jan 15–May 31 and Sept 15–Dec 15 only) for Mass at Pauline Books & Media\, Metairie (New Orleans)\, LA.
URL:https://pauline.org/event/mass-at-pauline-books-media-new-orleans/2026-05-22/
LOCATION:Pauline Center (New Orleans)\, 4403 Veterans Memorial Boulevard\, Metairie\, LA\, 70006\, United States
CATEGORIES:New Orleans
ATTACH;FMTTYPE=image/jpeg:https://pauline.org/wp-content/uploads/2024/06/unnamed-3.jpg
END:VEVENT
BEGIN:VEVENT
DTSTART;TZID=America/Chicago:20260528T100000
DTEND;TZID=America/Chicago:20260528T170000
DTSTAMP:20260422T041810
CREATED:20260421T145444Z
LAST-MODIFIED:20260421T150423Z
UID:10000162-1779962400-1779987600@pauline.org
SUMMARY:Eucharistic Adoration at Pauline Books & Media\, New Orleans
DESCRIPTION:Join us for Eucharistic Adoration on Thursdays from 10am–5pm in our chapel at Pauline Books & Media in Metairie (New Orleans)\, LA.
URL:https://pauline.org/event/eucharistic-adoration-at-pbm-nola-2-2/2026-05-28/
LOCATION:Pauline Center (New Orleans)\, 4403 Veterans Memorial Boulevard\, Metairie\, LA\, 70006\, United States
CATEGORIES:Español,New Orleans,Prayer
ATTACH;FMTTYPE=image/jpeg:https://pauline.org/wp-content/uploads/2024/03/Search-Results-scaled.jpg
END:VEVENT
BEGIN:VEVENT
DTSTART;TZID=America/Chicago:20260529T120000
DTEND;TZID=America/Chicago:20260529T123000
DTSTAMP:20260422T041810
CREATED:20250327T023719Z
LAST-MODIFIED:20250327T023719Z
UID:10001999-1780056000-1780057800@pauline.org
SUMMARY:Mass at Pauline Books & Media\, New Orleans
DESCRIPTION:Join us on Fridays at noon (Jan 15–May 31 and Sept 15–Dec 15 only) for Mass at Pauline Books & Media\, Metairie (New Orleans)\, LA.
URL:https://pauline.org/event/mass-at-pauline-books-media-new-orleans/2026-05-29/
LOCATION:Pauline Center (New Orleans)\, 4403 Veterans Memorial Boulevard\, Metairie\, LA\, 70006\, United States
CATEGORIES:New Orleans
ATTACH;FMTTYPE=image/jpeg:https://pauline.org/wp-content/uploads/2024/06/unnamed-3.jpg
END:VEVENT
BEGIN:VEVENT
DTSTART;TZID=America/Chicago:20260604T100000
DTEND;TZID=America/Chicago:20260604T170000
DTSTAMP:20260422T041810
CREATED:20260421T145444Z
LAST-MODIFIED:20260421T150423Z
UID:10000163-1780567200-1780592400@pauline.org
SUMMARY:Eucharistic Adoration at Pauline Books & Media\, New Orleans
DESCRIPTION:Join us for Eucharistic Adoration on Thursdays from 10am–5pm in our chapel at Pauline Books & Media in Metairie (New Orleans)\, LA.
URL:https://pauline.org/event/eucharistic-adoration-at-pbm-nola-2-2/2026-06-04/
LOCATION:Pauline Center (New Orleans)\, 4403 Veterans Memorial Boulevard\, Metairie\, LA\, 70006\, United States
CATEGORIES:Español,New Orleans,Prayer
ATTACH;FMTTYPE=image/jpeg:https://pauline.org/wp-content/uploads/2024/03/Search-Results-scaled.jpg
END:VEVENT
BEGIN:VEVENT
DTSTART;TZID=America/Chicago:20260605T120000
DTEND;TZID=America/Chicago:20260605T123000
DTSTAMP:20260422T041810
CREATED:20250327T023719Z
LAST-MODIFIED:20250327T023719Z
UID:10002000-1780660800-1780662600@pauline.org
SUMMARY:Mass at Pauline Books & Media\, New Orleans
DESCRIPTION:Join us on Fridays at noon (Jan 15–May 31 and Sept 15–Dec 15 only) for Mass at Pauline Books & Media\, Metairie (New Orleans)\, LA.
URL:https://pauline.org/event/mass-at-pauline-books-media-new-orleans/2026-06-05/
LOCATION:Pauline Center (New Orleans)\, 4403 Veterans Memorial Boulevard\, Metairie\, LA\, 70006\, United States
CATEGORIES:New Orleans
ATTACH;FMTTYPE=image/jpeg:https://pauline.org/wp-content/uploads/2024/06/unnamed-3.jpg
END:VEVENT
BEGIN:VEVENT
DTSTART;TZID=America/Chicago:20260611T100000
DTEND;TZID=America/Chicago:20260611T170000
DTSTAMP:20260422T041810
CREATED:20260421T145444Z
LAST-MODIFIED:20260421T150423Z
UID:10000164-1781172000-1781197200@pauline.org
SUMMARY:Eucharistic Adoration at Pauline Books & Media\, New Orleans
DESCRIPTION:Join us for Eucharistic Adoration on Thursdays from 10am–5pm in our chapel at Pauline Books & Media in Metairie (New Orleans)\, LA.
URL:https://pauline.org/event/eucharistic-adoration-at-pbm-nola-2-2/2026-06-11/
LOCATION:Pauline Center (New Orleans)\, 4403 Veterans Memorial Boulevard\, Metairie\, LA\, 70006\, United States
CATEGORIES:Español,New Orleans,Prayer
ATTACH;FMTTYPE=image/jpeg:https://pauline.org/wp-content/uploads/2024/03/Search-Results-scaled.jpg
END:VEVENT
BEGIN:VEVENT
DTSTART;TZID=America/Chicago:20260612T120000
DTEND;TZID=America/Chicago:20260612T123000
DTSTAMP:20260422T041810
CREATED:20250327T023719Z
LAST-MODIFIED:20250327T023719Z
UID:10002001-1781265600-1781267400@pauline.org
SUMMARY:Mass at Pauline Books & Media\, New Orleans
DESCRIPTION:Join us on Fridays at noon (Jan 15–May 31 and Sept 15–Dec 15 only) for Mass at Pauline Books & Media\, Metairie (New Orleans)\, LA.
URL:https://pauline.org/event/mass-at-pauline-books-media-new-orleans/2026-06-12/
LOCATION:Pauline Center (New Orleans)\, 4403 Veterans Memorial Boulevard\, Metairie\, LA\, 70006\, United States
CATEGORIES:New Orleans
ATTACH;FMTTYPE=image/jpeg:https://pauline.org/wp-content/uploads/2024/06/unnamed-3.jpg
END:VEVENT
BEGIN:VEVENT
DTSTART;TZID=America/Chicago:20260618T100000
DTEND;TZID=America/Chicago:20260618T170000
DTSTAMP:20260422T041810
CREATED:20260421T145444Z
LAST-MODIFIED:20260421T150423Z
UID:10000165-1781776800-1781802000@pauline.org
SUMMARY:Eucharistic Adoration at Pauline Books & Media\, New Orleans
DESCRIPTION:Join us for Eucharistic Adoration on Thursdays from 10am–5pm in our chapel at Pauline Books & Media in Metairie (New Orleans)\, LA.
URL:https://pauline.org/event/eucharistic-adoration-at-pbm-nola-2-2/2026-06-18/
LOCATION:Pauline Center (New Orleans)\, 4403 Veterans Memorial Boulevard\, Metairie\, LA\, 70006\, United States
CATEGORIES:Español,New Orleans,Prayer
ATTACH;FMTTYPE=image/jpeg:https://pauline.org/wp-content/uploads/2024/03/Search-Results-scaled.jpg
END:VEVENT
BEGIN:VEVENT
DTSTART;TZID=America/Chicago:20260619T120000
DTEND;TZID=America/Chicago:20260619T123000
DTSTAMP:20260422T041810
CREATED:20250327T023719Z
LAST-MODIFIED:20250327T023719Z
UID:10002002-1781870400-1781872200@pauline.org
SUMMARY:Mass at Pauline Books & Media\, New Orleans
DESCRIPTION:Join us on Fridays at noon (Jan 15–May 31 and Sept 15–Dec 15 only) for Mass at Pauline Books & Media\, Metairie (New Orleans)\, LA.
URL:https://pauline.org/event/mass-at-pauline-books-media-new-orleans/2026-06-19/
LOCATION:Pauline Center (New Orleans)\, 4403 Veterans Memorial Boulevard\, Metairie\, LA\, 70006\, United States
CATEGORIES:New Orleans
ATTACH;FMTTYPE=image/jpeg:https://pauline.org/wp-content/uploads/2024/06/unnamed-3.jpg
END:VEVENT
BEGIN:VEVENT
DTSTART;TZID=America/Chicago:20260625T100000
DTEND;TZID=America/Chicago:20260625T170000
DTSTAMP:20260422T041810
CREATED:20260421T145444Z
LAST-MODIFIED:20260421T150423Z
UID:10000166-1782381600-1782406800@pauline.org
SUMMARY:Eucharistic Adoration at Pauline Books & Media\, New Orleans
DESCRIPTION:Join us for Eucharistic Adoration on Thursdays from 10am–5pm in our chapel at Pauline Books & Media in Metairie (New Orleans)\, LA.
URL:https://pauline.org/event/eucharistic-adoration-at-pbm-nola-2-2/2026-06-25/
LOCATION:Pauline Center (New Orleans)\, 4403 Veterans Memorial Boulevard\, Metairie\, LA\, 70006\, United States
CATEGORIES:Español,New Orleans,Prayer
ATTACH;FMTTYPE=image/jpeg:https://pauline.org/wp-content/uploads/2024/03/Search-Results-scaled.jpg
END:VEVENT
BEGIN:VEVENT
DTSTART;TZID=America/Chicago:20260626T120000
DTEND;TZID=America/Chicago:20260626T123000
DTSTAMP:20260422T041810
CREATED:20250327T023719Z
LAST-MODIFIED:20250327T023719Z
UID:10002003-1782475200-1782477000@pauline.org
SUMMARY:Mass at Pauline Books & Media\, New Orleans
DESCRIPTION:Join us on Fridays at noon (Jan 15–May 31 and Sept 15–Dec 15 only) for Mass at Pauline Books & Media\, Metairie (New Orleans)\, LA.
URL:https://pauline.org/event/mass-at-pauline-books-media-new-orleans/2026-06-26/
LOCATION:Pauline Center (New Orleans)\, 4403 Veterans Memorial Boulevard\, Metairie\, LA\, 70006\, United States
CATEGORIES:New Orleans
ATTACH;FMTTYPE=image/jpeg:https://pauline.org/wp-content/uploads/2024/06/unnamed-3.jpg
END:VEVENT
BEGIN:VEVENT
DTSTART;TZID=America/Chicago:20260702T100000
DTEND;TZID=America/Chicago:20260702T170000
DTSTAMP:20260422T041810
CREATED:20260421T145444Z
LAST-MODIFIED:20260421T150423Z
UID:10000167-1782986400-1783011600@pauline.org
SUMMARY:Eucharistic Adoration at Pauline Books & Media\, New Orleans
DESCRIPTION:Join us for Eucharistic Adoration on Thursdays from 10am–5pm in our chapel at Pauline Books & Media in Metairie (New Orleans)\, LA.
URL:https://pauline.org/event/eucharistic-adoration-at-pbm-nola-2-2/2026-07-02/
LOCATION:Pauline Center (New Orleans)\, 4403 Veterans Memorial Boulevard\, Metairie\, LA\, 70006\, United States
CATEGORIES:Español,New Orleans,Prayer
ATTACH;FMTTYPE=image/jpeg:https://pauline.org/wp-content/uploads/2024/03/Search-Results-scaled.jpg
END:VEVENT
BEGIN:VEVENT
DTSTART;TZID=America/Chicago:20260703T120000
DTEND;TZID=America/Chicago:20260703T123000
DTSTAMP:20260422T041810
CREATED:20250327T023719Z
LAST-MODIFIED:20250327T023719Z
UID:10002004-1783080000-1783081800@pauline.org
SUMMARY:Mass at Pauline Books & Media\, New Orleans
DESCRIPTION:Join us on Fridays at noon (Jan 15–May 31 and Sept 15–Dec 15 only) for Mass at Pauline Books & Media\, Metairie (New Orleans)\, LA.
URL:https://pauline.org/event/mass-at-pauline-books-media-new-orleans/2026-07-03/
LOCATION:Pauline Center (New Orleans)\, 4403 Veterans Memorial Boulevard\, Metairie\, LA\, 70006\, United States
CATEGORIES:New Orleans
ATTACH;FMTTYPE=image/jpeg:https://pauline.org/wp-content/uploads/2024/06/unnamed-3.jpg
END:VEVENT
BEGIN:VEVENT
DTSTART;TZID=America/Chicago:20260709T100000
DTEND;TZID=America/Chicago:20260709T170000
DTSTAMP:20260422T041810
CREATED:20260421T145444Z
LAST-MODIFIED:20260421T150423Z
UID:10000168-1783591200-1783616400@pauline.org
SUMMARY:Eucharistic Adoration at Pauline Books & Media\, New Orleans
DESCRIPTION:Join us for Eucharistic Adoration on Thursdays from 10am–5pm in our chapel at Pauline Books & Media in Metairie (New Orleans)\, LA.
URL:https://pauline.org/event/eucharistic-adoration-at-pbm-nola-2-2/2026-07-09/
LOCATION:Pauline Center (New Orleans)\, 4403 Veterans Memorial Boulevard\, Metairie\, LA\, 70006\, United States
CATEGORIES:Español,New Orleans,Prayer
ATTACH;FMTTYPE=image/jpeg:https://pauline.org/wp-content/uploads/2024/03/Search-Results-scaled.jpg
END:VEVENT
BEGIN:VEVENT
DTSTART;TZID=America/Chicago:20260710T120000
DTEND;TZID=America/Chicago:20260710T123000
DTSTAMP:20260422T041810
CREATED:20250327T023719Z
LAST-MODIFIED:20250327T023719Z
UID:10002005-1783684800-1783686600@pauline.org
SUMMARY:Mass at Pauline Books & Media\, New Orleans
DESCRIPTION:Join us on Fridays at noon (Jan 15–May 31 and Sept 15–Dec 15 only) for Mass at Pauline Books & Media\, Metairie (New Orleans)\, LA.
URL:https://pauline.org/event/mass-at-pauline-books-media-new-orleans/2026-07-10/
LOCATION:Pauline Center (New Orleans)\, 4403 Veterans Memorial Boulevard\, Metairie\, LA\, 70006\, United States
CATEGORIES:New Orleans
ATTACH;FMTTYPE=image/jpeg:https://pauline.org/wp-content/uploads/2024/06/unnamed-3.jpg
END:VEVENT
BEGIN:VEVENT
DTSTART;TZID=America/Chicago:20260716T100000
DTEND;TZID=America/Chicago:20260716T170000
DTSTAMP:20260422T041810
CREATED:20260421T145444Z
LAST-MODIFIED:20260421T150423Z
UID:10000169-1784196000-1784221200@pauline.org
SUMMARY:Eucharistic Adoration at Pauline Books & Media\, New Orleans
DESCRIPTION:Join us for Eucharistic Adoration on Thursdays from 10am–5pm in our chapel at Pauline Books & Media in Metairie (New Orleans)\, LA.
URL:https://pauline.org/event/eucharistic-adoration-at-pbm-nola-2-2/2026-07-16/
LOCATION:Pauline Center (New Orleans)\, 4403 Veterans Memorial Boulevard\, Metairie\, LA\, 70006\, United States
CATEGORIES:Español,New Orleans,Prayer
ATTACH;FMTTYPE=image/jpeg:https://pauline.org/wp-content/uploads/2024/03/Search-Results-scaled.jpg
END:VEVENT
BEGIN:VEVENT
DTSTART;TZID=America/Chicago:20260717T120000
DTEND;TZID=America/Chicago:20260717T123000
DTSTAMP:20260422T041810
CREATED:20250327T023719Z
LAST-MODIFIED:20250327T023719Z
UID:10002006-1784289600-1784291400@pauline.org
SUMMARY:Mass at Pauline Books & Media\, New Orleans
DESCRIPTION:Join us on Fridays at noon (Jan 15–May 31 and Sept 15–Dec 15 only) for Mass at Pauline Books & Media\, Metairie (New Orleans)\, LA.
URL:https://pauline.org/event/mass-at-pauline-books-media-new-orleans/2026-07-17/
LOCATION:Pauline Center (New Orleans)\, 4403 Veterans Memorial Boulevard\, Metairie\, LA\, 70006\, United States
CATEGORIES:New Orleans
ATTACH;FMTTYPE=image/jpeg:https://pauline.org/wp-content/uploads/2024/06/unnamed-3.jpg
END:VEVENT
BEGIN:VEVENT
DTSTART;TZID=America/Chicago:20260723T100000
DTEND;TZID=America/Chicago:20260723T170000
DTSTAMP:20260422T041810
CREATED:20260421T145444Z
LAST-MODIFIED:20260421T150423Z
UID:10000170-1784800800-1784826000@pauline.org
SUMMARY:Eucharistic Adoration at Pauline Books & Media\, New Orleans
DESCRIPTION:Join us for Eucharistic Adoration on Thursdays from 10am–5pm in our chapel at Pauline Books & Media in Metairie (New Orleans)\, LA.
URL:https://pauline.org/event/eucharistic-adoration-at-pbm-nola-2-2/2026-07-23/
LOCATION:Pauline Center (New Orleans)\, 4403 Veterans Memorial Boulevard\, Metairie\, LA\, 70006\, United States
CATEGORIES:Español,New Orleans,Prayer
ATTACH;FMTTYPE=image/jpeg:https://pauline.org/wp-content/uploads/2024/03/Search-Results-scaled.jpg
END:VEVENT
BEGIN:VEVENT
DTSTART;TZID=America/Chicago:20260724T120000
DTEND;TZID=America/Chicago:20260724T123000
DTSTAMP:20260422T041810
CREATED:20250327T023719Z
LAST-MODIFIED:20250327T023719Z
UID:10002007-1784894400-1784896200@pauline.org
SUMMARY:Mass at Pauline Books & Media\, New Orleans
DESCRIPTION:Join us on Fridays at noon (Jan 15–May 31 and Sept 15–Dec 15 only) for Mass at Pauline Books & Media\, Metairie (New Orleans)\, LA.
URL:https://pauline.org/event/mass-at-pauline-books-media-new-orleans/2026-07-24/
LOCATION:Pauline Center (New Orleans)\, 4403 Veterans Memorial Boulevard\, Metairie\, LA\, 70006\, United States
CATEGORIES:New Orleans
ATTACH;FMTTYPE=image/jpeg:https://pauline.org/wp-content/uploads/2024/06/unnamed-3.jpg
END:VEVENT
BEGIN:VEVENT
DTSTART;TZID=America/Chicago:20260730T100000
DTEND;TZID=America/Chicago:20260730T170000
DTSTAMP:20260422T041810
CREATED:20260421T145444Z
LAST-MODIFIED:20260421T150423Z
UID:10000171-1785405600-1785430800@pauline.org
SUMMARY:Eucharistic Adoration at Pauline Books & Media\, New Orleans
DESCRIPTION:Join us for Eucharistic Adoration on Thursdays from 10am–5pm in our chapel at Pauline Books & Media in Metairie (New Orleans)\, LA.
URL:https://pauline.org/event/eucharistic-adoration-at-pbm-nola-2-2/2026-07-30/
LOCATION:Pauline Center (New Orleans)\, 4403 Veterans Memorial Boulevard\, Metairie\, LA\, 70006\, United States
CATEGORIES:Español,New Orleans,Prayer
ATTACH;FMTTYPE=image/jpeg:https://pauline.org/wp-content/uploads/2024/03/Search-Results-scaled.jpg
END:VEVENT
BEGIN:VEVENT
DTSTART;TZID=America/Chicago:20260731T120000
DTEND;TZID=America/Chicago:20260731T123000
DTSTAMP:20260422T041810
CREATED:20250327T023719Z
LAST-MODIFIED:20250327T023719Z
UID:10002008-1785499200-1785501000@pauline.org
SUMMARY:Mass at Pauline Books & Media\, New Orleans
DESCRIPTION:Join us on Fridays at noon (Jan 15–May 31 and Sept 15–Dec 15 only) for Mass at Pauline Books & Media\, Metairie (New Orleans)\, LA.
URL:https://pauline.org/event/mass-at-pauline-books-media-new-orleans/2026-07-31/
LOCATION:Pauline Center (New Orleans)\, 4403 Veterans Memorial Boulevard\, Metairie\, LA\, 70006\, United States
CATEGORIES:New Orleans
ATTACH;FMTTYPE=image/jpeg:https://pauline.org/wp-content/uploads/2024/06/unnamed-3.jpg
END:VEVENT
END:VCALENDAR